BEGIN:VCALENDAR
PRODID:-//eluceo/ical//2.0/EN
VERSION:2.0
CALSCALE:GREGORIAN
BEGIN:VEVENT
UID:772058492628da87d1a5613d5dfa46ae
DTSTAMP:20260420T190133Z
SUMMARY:Cantorial Concert: Bringing Light & Peace
DESCRIPTION:Jewish Federation of West-Central New Jersey\nCommunity Calenda
 r\nhttps://jfedwcnj.org/calendar/cantorial-concert-bringing-light-peace\n\
 nYou are cordially invited to enjoy an afternoon of beautiful and inspirin
 g music on the theme of Light and Peace.\n\nOn Sunday\, December 8\, 2024\
 , beginning at 4:00 p.m.\, Cantor Risa Wallach and her special musical gu
 ests\, including the Mercaz Jewish Community Choir of Central NJ\, will pr
 esent an afternoon of beautiful Jewish music\, shining the light of peace 
 in a dark time of the year.\n\nPRE-CONCERT RECEPTION:\n\nPrior to the conc
 ert itself\, we invite you to join us at a special reception s...
DTSTART;TZID=America/New_York:20241208T160000
DTEND;TZID=America/New_York:20241208T180000
END:VEVENT
END:VCALENDAR
