BEGIN:VCALENDAR
PRODID:-//eluceo/ical//2.0/EN
VERSION:2.0
CALSCALE:GREGORIAN
BEGIN:VEVENT
UID:575ee2464a82ae4248cdf5a2d4da8f78
DTSTAMP:20260424T002607Z
SUMMARY:Camp Ruach and Blaustein ECC Open House!
DESCRIPTION:Jewish Federation of West-Central New Jersey\nCommunity Calenda
 r\nhttps://jfedwcnj.org/calendar/camp-ruach-and-blaustein-ecc-open-house-1
 455035561\n\nCamp Ruach and Blaustein ECC Open House!\n*Save $100 on NEW C
 amp &amp\; School Registrations. Register Now for 2016-2017 School Year \n
 *(Expires February 29\, 2016. Some restrictions apply.)\n\n Camp Ruach: Fo
 r Campers Ages 2-9th Grade \n*Offers Flexible Weeks *Transportation *High 
 Staff to Camper Ratio*Camp Programs for Children with Special Needs \n*Act
 ivities of All Kinds*Travel Camp and Much More!   Questions... Contact Sta
 cey Herman\, 908.725.6994 x223\;   sherman@ssbjcc.org \n\n Blaustein Early
 ...
DTSTART;TZID=America/New_York:20160223T170000
DTEND;TZID=America/New_York:20160223T190000
END:VEVENT
END:VCALENDAR
