BEGIN:VCALENDAR
PRODID:-//eluceo/ical//2.0/EN
VERSION:2.0
CALSCALE:GREGORIAN
BEGIN:VEVENT
UID:38a7186ac4f96d1a27760c7abf3f3e7d
DTSTAMP:20260423T091808Z
SUMMARY:Camp Open House
DESCRIPTION:Jewish Federation of West-Central New Jersey\nCommunity Calenda
 r\nhttps://jfedwcnj.org/calendar/camp-open-house\n\n9 Weeks of Fun!\n\nJun
 e 26-August 18\, 2023\n\nSpecialty Camps August 21-25\n\nMeet the Camp Dir
 ectors and tour the campus\, 5:30-7:00 PM\n\n \n\n☼ Ages 3-9\n☼ Welco
 ming & Inclusive Camp\n☼ Lunch & Snacks Provided\n☼ Transportation Inc
 luded\n☼ Instructional & Free Swim\n☼ Indoor & Outdoor Pools\n☼ Day 
 & Overnight Trips\n☼ Robust Athletics & Adventure Course\n☼ Arts & STE
 M Programming\n☼ Extended Day Options Available\n\n \n\nQuestions?  Co
 ntact Becky Metzger at rmetzger@s...
DTSTART;TZID=America/New_York:20221213T173000
DTEND;TZID=America/New_York:20221213T190000
END:VEVENT
END:VCALENDAR
