BEGIN:VCALENDAR
PRODID:-//eluceo/ical//2.0/EN
VERSION:2.0
CALSCALE:GREGORIAN
BEGIN:VEVENT
UID:88f3279fb5390614f043426802b3c198
DTSTAMP:20260423T042242Z
SUMMARY:CAMP GIRLS- IRIS KRASNOW
DESCRIPTION:Jewish Federation of West-Central New Jersey\nCommunity Calenda
 r\nhttps://jfedwcnj.org/calendar/camp-girls--iris-krasnow-1600784022\n\nNe
 w York Times bestselling author Iris Krasnow reflects with humor and heart
  on her summer camp experiences and the lessons she and her fellow campers
  learned there that have stayed with them throughout their lives.\n\n Iris
  Krasnow was 8 years old when she first attended sleep-away camp\, buildin
 g lasting friendships and essential life skills amid the towering pine tre
 es and open skies of Wisconsin. Decades later\, she returned to Camp Agawa
 k as a staff member to help resurrect Agalog\, the...
DTSTART;TZID=America/New_York:20210505T120000
DTEND;TZID=America/New_York:20210505T140000
END:VEVENT
END:VCALENDAR
