BEGIN:VCALENDAR
PRODID:-//eluceo/ical//2.0/EN
VERSION:2.0
CALSCALE:GREGORIAN
BEGIN:VEVENT
UID:08c5f5ee8a05cd82573f7e7b355655c2
DTSTAMP:20260425T004831Z
SUMMARY:CAMERON DOUGLAS\, LONG WAY HOME
DESCRIPTION:Jewish Federation of West-Central New Jersey\nCommunity Calenda
 r\nhttps://jfedwcnj.org/calendar/cameron-douglas-long-way-home-1600781062\
 n\nFrom the scion of Hollywood royalty&ndash\;son of Michael Douglas\, gra
 ndson of Kirk Douglas&ndash\;a moving\, often shocking\, ultimately inspir
 ing memoir detailing his struggle to regain his dignity\, humanity\, and p
 lace in society after many years of drug abuse and almost eight years in p
 rison.\n\n Cameron Douglas is born into wealth\, privilege\, and comfort. 
 His parents are glamorous jet-setters\, his father a superstar\, his mothe
 r a beautiful socialite\, his grandfather a legend. On the surface\, his l
 ife...
DTSTART;TZID=America/New_York:20201111T200000
DTEND;TZID=America/New_York:20201111T210000
END:VEVENT
END:VCALENDAR
