BEGIN:VCALENDAR
PRODID:-//eluceo/ical//2.0/EN
VERSION:2.0
CALSCALE:GREGORIAN
BEGIN:VEVENT
UID:bcd755fcbba84b328407ecc74422d411
DTSTAMP:20260421T173741Z
SUMMARY:Calling All Single Seniors 65 & Over
DESCRIPTION:Jewish Federation of West-Central New Jersey\nCommunity Calenda
 r\nhttps://jfedwcnj.org/calendar/calling-all-single-seniors-65--over-14607
 42893\n\nThe JCC is a great place to meet older adults without partners. M
 eet old friends & make New Ones! Wine and Cheese at the Outdoor Pool. Fee:
  $10/ Person. Rain or Shine. To register call 908.725.6994 x201.Co-Sponsor
 ed by the Shimon & Sara Birnbaum Jewish Community Center & The Jewish Fede
 ration of Somerset\, Hunterdon & Warren Counties
DTSTART;TZID=America/New_York:20160522T160000
DTEND;TZID=America/New_York:20160522T180000
END:VEVENT
END:VCALENDAR
