BEGIN:VCALENDAR
PRODID:-//eluceo/ical//2.0/EN
VERSION:2.0
CALSCALE:GREGORIAN
BEGIN:VEVENT
UID:6555773286b07af808b593b0a6a4a45e
DTSTAMP:20260421T151430Z
SUMMARY:CAKE WARS- IN PERSON AT THE JCC
DESCRIPTION:Jewish Federation of West-Central New Jersey\nCommunity Calenda
 r\nhttps://jfedwcnj.org/calendar/cake-wars-in-person-at-the-jcc\n\nCelebra
 te Israel’s Birthday with a friendly cake competition! Each household wi
 ll receive a blank cake with decorating supplies & will enter into one of
  3 categories\, Yom Ha’Atzmaut\, Birthday or Spring. We will see which
  cake comes out the winner in each category!\n\n\nFREE but please registe
 r so we make sure we have enough supplies.\n\n\n 
DTSTART;TZID=America/New_York:20210411T133000
DTEND;TZID=America/New_York:20210411T153000
END:VEVENT
END:VCALENDAR
