BEGIN:VCALENDAR
PRODID:-//eluceo/ical//2.0/EN
VERSION:2.0
CALSCALE:GREGORIAN
BEGIN:VEVENT
UID:84a3d7ae6ae3f68d89d301f5d9e4c0a2
DTSTAMP:20260420T114505Z
SUMMARY:By George: The Story of the Music of George and Ira Gershwin
DESCRIPTION:Jewish Federation of West-Central New Jersey\nCommunity Calenda
 r\nhttps://jfedwcnj.org/calendar/by-george-the-story-of-the-music-of-georg
 e-and-ira-gershwin-1448219667\n\nCome and enjoy the story of the legendary
  George and Ira Gershwin. Learn how their music came to\nbe loved by all a
 nd hear the story of their lives.\n\nOur new Thursday programs will offer 
 you interesting speakers and authors presenting on a variety of topics.\nI
 t&rsquo\;s social\, it&rsquo\;s educational and it&rsquo\;s all right here
  at the J!\nAll are welcome to attend. All Programs: Thursdays at 12 Noon\
 n$5/Person (Includes the program\, a bagel &ldquo\;and&rdquo\;)
DTSTART;TZID=America/New_York:20151217T120000
DTEND;TZID=America/New_York:20151217T140000
END:VEVENT
END:VCALENDAR
