BEGIN:VCALENDAR
PRODID:-//eluceo/ical//2.0/EN
VERSION:2.0
CALSCALE:GREGORIAN
BEGIN:VEVENT
UID:a0783dda9e24e0fc9fb0c35053cb8c46
DTSTAMP:20260422T201055Z
SUMMARY:Business Networking- How to Maximize Social Media for your Business
DESCRIPTION:Jewish Federation of West-Central New Jersey\nCommunity Calenda
 r\nhttps://jfedwcnj.org/calendar/business-networking-how-to-maximize-socia
 l-media-for-your-business\n\nPresentation by NJ Advance Media on how to op
 timize social media for your business 
DTSTART;TZID=America/New_York:20170524T073000
DTEND;TZID=America/New_York:20170524T090000
END:VEVENT
END:VCALENDAR
