BEGIN:VCALENDAR
PRODID:-//eluceo/ical//2.0/EN
VERSION:2.0
CALSCALE:GREGORIAN
BEGIN:VEVENT
UID:03ff4425895099a7217d4287b58ad8f7
DTSTAMP:20260424T025839Z
SUMMARY:Business Networking Group Poolside BBQ
DESCRIPTION:Jewish Federation of West-Central New Jersey\nCommunity Calenda
 r\nhttps://jfedwcnj.org/calendar/business-networking-group-poolside-bbq\n\
 nBuild Your Business Network & Meet Other Business Leaders In The Area!\n
 \nJoin us poolside at the Federation Offices for our Annual BNG BBQ!\n\nR
 egistration is $35 in advance and $40 at the door.\n\n \n\nThe Business N
 etworking Group is Chaired by Kenneth M. Kaplan\, founder of Kaplan Law\
 , LLC\, and Michael B. Lehner\,CPA/ABV\, CFE\, ASA\, Principal\, Litigati
 on and Valuation Services\, zbt Certified Public Accounting & Consulting
 \, LLC.\n\n 
DTSTART;TZID=America/New_York:20150909T170000
DTEND;TZID=America/New_York:20150909T190000
END:VEVENT
END:VCALENDAR
