BEGIN:VCALENDAR
PRODID:-//eluceo/ical//2.0/EN
VERSION:2.0
CALSCALE:GREGORIAN
BEGIN:VEVENT
UID:1e81a0d988c0c2297e8980b2228817e4
DTSTAMP:20260424T225617Z
SUMMARY:Business Networking Group June 2nd
DESCRIPTION:Jewish Federation of West-Central New Jersey\nCommunity Calenda
 r\nhttps://jfedwcnj.org/calendar/business-networking-group-june-2nd\n\nSav
 e the date for our next business networking group breakfast
DTSTART;TZID=America/New_York:20200602T073000
DTEND;TZID=America/New_York:20200602T090000
END:VEVENT
END:VCALENDAR
