BEGIN:VCALENDAR
PRODID:-//eluceo/ical//2.0/EN
VERSION:2.0
CALSCALE:GREGORIAN
BEGIN:VEVENT
UID:fd41620a064a1f396252a83938fb85b6
DTSTAMP:20260421T221756Z
SUMMARY:Business Networking Group Happy Hour
DESCRIPTION:Jewish Federation of West-Central New Jersey\nCommunity Calenda
 r\nhttps://jfedwcnj.org/calendar/business-networking-group-happy-hour\n\nJ
 oin local professionals for networking\, drinks\, appetizers and a
  toast to the Jewish New Year \n\nHappy Hour\n\nTuesday\, Septemb
 er 14\, 2021 \n\n5:00pm-6:30pm \n\nGreen Knoll Grill's covered out
 door bar \n\n645 US-202\, Bridgewater\, NJ 08807 \n\nCouvert: $25\
 n\n  \n\nChaired by BNG Co-Chairs Ken Kaplan and Andy Tupler
DTSTART;TZID=America/New_York:20210914T170000
DTEND;TZID=America/New_York:20210914T183000
END:VEVENT
END:VCALENDAR
