BEGIN:VCALENDAR
PRODID:-//eluceo/ical//2.0/EN
VERSION:2.0
CALSCALE:GREGORIAN
BEGIN:VEVENT
UID:898fc084c4306195d36f34d528d758b3
DTSTAMP:20260424T005051Z
SUMMARY:Business Networking Group Breakfast Meeting
DESCRIPTION:Jewish Federation of West-Central New Jersey\nCommunity Calenda
 r\nhttps://jfedwcnj.org/calendar/business-networking-group-breakfast-meeti
 ng-1450468257\n\nBuild your netowrk and make sure it's a strong one. Join 
 the Business Networking Group for Breakfast at the Bridgewater JCC. A Link
 edIn presentation will be made by Maria Semple of "The Prospect Finder".Re
 gistration is $30 online & $35 at the door.
DTSTART;TZID=America/New_York:20160127T073000
DTEND;TZID=America/New_York:20160127T090000
END:VEVENT
END:VCALENDAR
