BEGIN:VCALENDAR
PRODID:-//eluceo/ical//2.0/EN
VERSION:2.0
CALSCALE:GREGORIAN
BEGIN:VEVENT
UID:91cfe0eaa0d12e44c647482751225c58
DTSTAMP:20260421T224141Z
SUMMARY:Business Networking Group BBQ
DESCRIPTION:Jewish Federation of West-Central New Jersey\nCommunity Calenda
 r\nhttps://jfedwcnj.org/calendar/business-networking-group-bbq-1528302774\
 n\nThe Jewish Federation Business Networking Group Presents the Annual Ba
 r- B-Que \n\nThursday September 20\, 2018 6pm. Prive $35 in advance\, $40
 p at the door. \n\nTo register please visit Jfedshaw.org/BNG or call 908.
 758.2002\n\n775 Talamini Road Bridgewater\, NJ 08807 
DTSTART;TZID=America/New_York:20180920T180000
DTEND;TZID=America/New_York:20180920T200000
END:VEVENT
END:VCALENDAR
