BEGIN:VCALENDAR
PRODID:-//eluceo/ical//2.0/EN
VERSION:2.0
CALSCALE:GREGORIAN
BEGIN:VEVENT
UID:82a1ef2d5eefa009f0f024933db1c866
DTSTAMP:20260423T021158Z
SUMMARY:Business Networking Group Fall BBQ
DESCRIPTION:Jewish Federation of West-Central New Jersey\nCommunity Calenda
 r\nhttps://jfedwcnj.org/calendar/business-networking-group-bbq\n\nJoin us 
 for the long-awaited return of our annual Networking Dinner. \n\nThursday
 \, September 15\, 2022 * 5:30pm \n\nCouvert\n\n$36 Couvert in Advance \n
 \n$45 Couvert Plus One Guest \n\n$40 Door Price \n\nFeaturing Local Rest
 auranteur\nRalph Acquaviva\nCo-Owner Bridgewater Manor Catering\n\n \n\nF
 or more infromation please visit jfedshaw.org/bng \n\nContact Lauren Edel
 man 908-758-2003 or ledelman@jfedshaw.org 
DTSTART;TZID=America/New_York:20220915T173000
DTEND;TZID=America/New_York:20220915T200000
END:VEVENT
END:VCALENDAR
