BEGIN:VCALENDAR
PRODID:-//eluceo/ical//2.0/EN
VERSION:2.0
CALSCALE:GREGORIAN
BEGIN:VEVENT
UID:74583c9371802737596edcb4c2213406
DTSTAMP:20260423T082928Z
SUMMARY:Business Networking Group Annual Bar-B-Que Honoring Michael Saul
DESCRIPTION:Jewish Federation of West-Central New Jersey\nCommunity Calenda
 r\nhttps://jfedwcnj.org/calendar/business-networking-group-annual-bar-b-qu
 e-honoring-michael-saul-1565186754\n\nJoin the Business Networking Group o
 f the Jewish Federation of Somerset\, Hunterdon & Warren Counties for the 
 September Business Networking Group Annual BBQ. Wednesday\, September 18\,
  2019 at the Jewish Community Center. This year we will be Honoring Michae
 l Saul for all of his hard work and dedication to the Business Networking 
 Group and the Jewish Federation of Somerset\, Hunterdon & Warren Counties.
  The BNG gives our business community the opportunity to gain visibility a
 nd make the valued co...
DTSTART;TZID=America/New_York:20190918T183000
DTEND;TZID=America/New_York:20190918T203000
END:VEVENT
END:VCALENDAR
