BEGIN:VCALENDAR
PRODID:-//eluceo/ical//2.0/EN
VERSION:2.0
CALSCALE:GREGORIAN
BEGIN:VEVENT
UID:e564bb5bb451d76c6897b1dd9b52ce63
DTSTAMP:20260421T071513Z
SUMMARY:Building Safe Sacred Spaces: Personal and Architectural Perspective
 s
DESCRIPTION:Jewish Federation of West-Central New Jersey\nCommunity Calenda
 r\nhttps://jfedwcnj.org/calendar/building-safe-sacred-spaces-personal-and-
 architectural-perspectives-1579712755\n\nThe Ruth Ellen Steinman Bloustein
  and Edward J. Bloustein Memorial Lecture\n\nRabbi Jeffrey Myers\, a New J
 ersey native and Rutgers alumnus\, graduated from the Cantorial School of 
 the Jewish Theological Seminary of America and received rabbinic ordinatio
 n from Mesivta Adat Wolkowisk. He was appointed rabbi of Pittsburgh's Tree
  of Life Synagogue in 2017.\n\nEsther Sperber\, the Jerusalem-born founder
  of Studio ST Architects in New York\, studies architecture at the Technio
 n in Haifa and Columbia ...
DTSTART;TZID=America/New_York:20200401T170000
DTEND;TZID=America/New_York:20200401T190000
END:VEVENT
END:VCALENDAR
