BEGIN:VCALENDAR
PRODID:-//eluceo/ical//2.0/EN
VERSION:2.0
CALSCALE:GREGORIAN
BEGIN:VEVENT
UID:c947c3ca8e8a5399adcd1cd2ecf85242
DTSTAMP:20260423T184622Z
SUMMARY:Building a Wider Bridge Between the U.S. and Israel
DESCRIPTION:Jewish Federation of West-Central New Jersey\nCommunity Calenda
 r\nhttps://jfedwcnj.org/calendar/building-a-wider-bridge-between-the-us-an
 d-israel\n\nTHE AMERICAN ISRAEL PUBLIC AFFAIRS COMMITTEE\nin partnership w
 ith\nTEMPLE SHOLOM\n\n\ninvite you to a discussion\nBuilding a Wider Bridg
 e Between the U.S. and Israel\n\nFeaturing\nRabbi Jeremy Pappas\nNortheast
  Deputy Synagogue Initiative Director &\nNational Director of Rabbinical S
 tudent Program\n\nWednesday\, January 17th\n7:30 PM to 9:00 PM\nTemple Sho
 lom\n534 N Bridge St | Bridgewater\n\nThis event is open to Temple Sholom 
 and the surrounding communities.\n\nKindly RSVP to Max Jaffe\, New ...
DTSTART;TZID=America/New_York:20180117T193000
DTEND;TZID=America/New_York:20180117T210000
END:VEVENT
END:VCALENDAR
