BEGIN:VCALENDAR
PRODID:-//eluceo/ical//2.0/EN
VERSION:2.0
CALSCALE:GREGORIAN
BEGIN:VEVENT
UID:70960b2509488d41e5837c56044811ff
DTSTAMP:20260422T045028Z
SUMMARY:Bring Back the 80s Concert & Dinner
DESCRIPTION:Jewish Federation of West-Central New Jersey\nCommunity Calenda
 r\nhttps://jfedwcnj.org/calendar/bring-back-the-80s-concert--dinner-173091
 1058\n\n6:30pm Dinner catered by Classical Caterers followed by concert wi
 th 80s cover band. Presented by the Men's Club of Temple Sholom in Bridgew
 ater
DTSTART;TZID=America/New_York:20241214T183000
DTEND;TZID=America/New_York:20241214T223000
END:VEVENT
END:VCALENDAR
