BEGIN:VCALENDAR
PRODID:-//eluceo/ical//2.0/EN
VERSION:2.0
CALSCALE:GREGORIAN
BEGIN:VEVENT
UID:62cb5a3c2fcf43cfecd91a2c93e2a267
DTSTAMP:20260421T121312Z
SUMMARY:Bridgewater Community Day
DESCRIPTION:Jewish Federation of West-Central New Jersey\nCommunity Calenda
 r\nhttps://jfedwcnj.org/calendar/bridgewater-community-day-1549401146\n\nD
 etails TBD
DTSTART;TZID=America/New_York:20190915T090000
DTEND;TZID=America/New_York:20190915T140000
END:VEVENT
END:VCALENDAR
