BEGIN:VCALENDAR
PRODID:-//eluceo/ical//2.0/EN
VERSION:2.0
CALSCALE:GREGORIAN
BEGIN:VEVENT
UID:22f7f6576c7c3df093a8b707c918bd38
DTSTAMP:20260420T040053Z
SUMMARY:Breakfast in the Sukkah for Rabbis and Jewish Community Leaders
DESCRIPTION:Jewish Federation of West-Central New Jersey\nCommunity Calenda
 r\nhttps://jfedwcnj.org/calendar/breakfast-in-the-sukkah-for-rabbis-and-je
 wish-community-leaders-1530560660\n\nRabbis and Jewish community leaders a
 re invited to join us for Breakfast in the Sukkah at The Oscar and Ella Wi
 lf Campus for Senior Living. The event will take place at Stein Assisted L
 iving\, 350 DeMott Lane\, Somerset.\nPlease RSVP to doshri@wilfcampus.org 
 or call 732-568-1155.
DTSTART;TZID=America/New_York:20180926T090000
DTEND;TZID=America/New_York:20180926T110000
END:VEVENT
END:VCALENDAR
