BEGIN:VCALENDAR
PRODID:-//eluceo/ical//2.0/EN
VERSION:2.0
CALSCALE:GREGORIAN
BEGIN:VEVENT
UID:2a8202e4f9739fc25138dfc3f2e9ecbd
DTSTAMP:20260423T200135Z
SUMMARY:BRAD MELTZER \, I AM ANNE FRANK & I AM BENJAMIN FRANKLIN
DESCRIPTION:Jewish Federation of West-Central New Jersey\nCommunity Calenda
 r\nhttps://jfedwcnj.org/calendar/brad-meltzer--i-am-anne-frank--i-am-benja
 min-franklin-1600356343\n\nIn a time when heroes are in high demand\, Book
  Festival fan favorite Brad Meltzer returns with his talented illustrator\
 , Christopher Eliopoulos\, to present two new books in his &ldquo\;Ordinar
 y People Change the World Series: I Am Anne Frank &amp\;  I Am Benjamin Fr
 anklin. These books  are the 21st and 22nd books in Brad&rsquo\;s and Chri
 stopher&rsquo\;s series of biographies for kids that focuses on the traits
  that made these ordinary heroes great&ndash\;the traits that kids can asp
 ire to in order to live heroically...
DTSTART;TZID=America/New_York:20201013T183000
DTEND;TZID=America/New_York:20201013T193000
END:VEVENT
END:VCALENDAR
