BEGIN:VCALENDAR
PRODID:-//eluceo/ical//2.0/EN
VERSION:2.0
CALSCALE:GREGORIAN
BEGIN:VEVENT
UID:a14d035a3918369ead6d8ce143314d26
DTSTAMP:20260421T055859Z
SUMMARY:Bored\, Bothered and Bewildered: The Prayer Service Doesn’t Do It
  For Me
DESCRIPTION:Jewish Federation of West-Central New Jersey\nCommunity Calenda
 r\nhttps://jfedwcnj.org/calendar/bored-bothered-and-bewildered-the-prayer-
 service-doesnt-do-it-for-me\n\nThree Sessions with Rabbi Katz: Tuesday\, N
 ovember 19\, December 3 & 10\n\nBillions of people on this planet pray eve
 ry day. They are hoping to connect to the Creator of Life. Obviously\, the
 y find great benefit in the discipline of prayer. The “Regulars” at se
 rvices seemed to have found their spiritual home. Yet for many\, the langu
 age of the prayer book feels foreign and archaic even though familiar melo
 dies can whisper\, beckon and draw one close. This year will it be tedium 
 or transformati...
DTSTART;TZID=America/New_York:20241119T190000
DTEND;TZID=America/New_York:20241119T203000
END:VEVENT
END:VCALENDAR
