BEGIN:VCALENDAR
PRODID:-//eluceo/ical//2.0/EN
VERSION:2.0
CALSCALE:GREGORIAN
BEGIN:VEVENT
UID:5ca1f173160f675e7a0d2f134bd826ce
DTSTAMP:20260423T195012Z
SUMMARY:Book Author Series-Robert Rosenthal
DESCRIPTION:Jewish Federation of West-Central New Jersey\nCommunity Calenda
 r\nhttps://jfedwcnj.org/calendar/book-author-series-robert-rosenthal-14704
 13399\n\nThe cookbook author and comedian will present a cooking demonstra
 tion that will be humorous\, entertaining and delicious.
DTSTART;TZID=America/New_York:20160918T120000
DTEND;TZID=America/New_York:20160918T140000
END:VEVENT
END:VCALENDAR
