BEGIN:VCALENDAR
PRODID:-//eluceo/ical//2.0/EN
VERSION:2.0
CALSCALE:GREGORIAN
BEGIN:VEVENT
UID:05feed9e19eb32a23ad8873d2604b7b1
DTSTAMP:20260423T034031Z
SUMMARY:Book Author Series Presentation– Rabbi Joseph Telushkin
DESCRIPTION:Jewish Federation of West-Central New Jersey\nCommunity Calenda
 r\nhttps://jfedwcnj.org/calendar/book-author-series-presentation-rabbi-jos
 eph-telushkin\n\nBook Author Series Presentation– Rabbi Joseph Telushkin
 \n\n​In Memory of Rabbi Evan Jaffe\n\nRabbi Telushkin\, noted author and
  speaker will be addressing significant Jewish questions and concerns.\n\n
 \nSunday\, November 20\, 2016\, 12:00 noon\nSnacks to follow\n$18/pp\n​R
 SVP: 908-782-6410
DTSTART;TZID=America/New_York:20161120T120000
DTEND;TZID=America/New_York:20161120T140000
END:VEVENT
END:VCALENDAR
