BEGIN:VCALENDAR
PRODID:-//eluceo/ical//2.0/EN
VERSION:2.0
CALSCALE:GREGORIAN
BEGIN:VEVENT
UID:570516dc4500d11466f61128305c524b
DTSTAMP:20260421T234621Z
SUMMARY:Boards Brews and Jews
DESCRIPTION:Jewish Federation of West-Central New Jersey\nCommunity Calenda
 r\nhttps://jfedwcnj.org/calendar/boards-brews-and-jews\n\nBoards Brews & J
 ews \n\nDo you like Beer? \n\nPlaying Board Games? \n\nJoin Us For a Fu
 n Evening\n\nFeaturing Geoff Engelstein Board Game Designer \n\nJune 29th
  at 6:30 pm \n\nSunken Silo \n\nCouvert $18 per person includes 2 beers 
 and appetizers \n\nBring a friend who as not attened a Federation event b
 efore and each of you will recieve 2 door prize tickets \n\n \n\nfor que
 stions reach out to Lauren Edelman at ledelman@jfedshaw.org or 908-758-200
 3
DTSTART;TZID=America/New_York:20230629T183000
DTEND;TZID=America/New_York:20230629T210000
END:VEVENT
END:VCALENDAR
