BEGIN:VCALENDAR
PRODID:-//eluceo/ical//2.0/EN
VERSION:2.0
CALSCALE:GREGORIAN
BEGIN:VEVENT
UID:bcd883bee35d31e1a72c57cabc017367
DTSTAMP:20260424T180108Z
SUMMARY:BNG Speed Networking event
DESCRIPTION:Jewish Federation of West-Central New Jersey\nCommunity Calenda
 r\nhttps://jfedwcnj.org/calendar/bng-speed-networking-event-1528311648\n\n
 Save the date for the Second BNG Speed Networking Event
DTSTART;TZID=America/New_York:20180927T183000
DTEND;TZID=America/New_York:20180927T203000
END:VEVENT
END:VCALENDAR
