BEGIN:VCALENDAR
PRODID:-//eluceo/ical//2.0/EN
VERSION:2.0
CALSCALE:GREGORIAN
BEGIN:VEVENT
UID:5e2ac2a1376fa4ac839a5c7a5b14f91a
DTSTAMP:20260423T180814Z
SUMMARY:BNG Speed Networking event
DESCRIPTION:Jewish Federation of West-Central New Jersey\nCommunity Calenda
 r\nhttps://jfedwcnj.org/calendar/bng-speed-networking-event\n\nSetting Ea
 ch Other Up for Success: Goal Setting for 2022\n\nMaximize your 
 networking time. Make meaningful business connections. \n\nSet your
  intention for the year ahead.\n\nWednesday\, February 9\, 2022 \
 n\n9 AM - 10:30 AM\n\n$18 Couvert  
DTSTART;TZID=America/New_York:20220210T090000
DTEND;TZID=America/New_York:20220210T110000
END:VEVENT
END:VCALENDAR
