BEGIN:VCALENDAR
PRODID:-//eluceo/ical//2.0/EN
VERSION:2.0
CALSCALE:GREGORIAN
BEGIN:VEVENT
UID:f95e4e6301cfdd2d53497cad9528721d
DTSTAMP:20260419T232128Z
SUMMARY:Blast\, Paint\, Celebrate!
DESCRIPTION:Jewish Federation of West-Central New Jersey\nCommunity Calenda
 r\nhttps://jfedwcnj.org/calendar/blast-paint-celebrate\n\nCome celebrate t
 he Jewish New Year in a way your kids will never forget! At this Rosh Hash
 anah celebration\, kids in grades K–6 can:\n\n\nTake the Shofar Sound C
 hallenge — try to blast your own shofar or borrow one of ours and see i
 f you can master the call.\nCreate your own Shofar.\nCreate Kindness Roc
 ks with uplifting messages and colorful designs to spread positivity.\nEn
 joy the classic New Year’s treat of apples dipped in honey for a sweet
  start.\n\n\nThis interactive\, han...
DTSTART;TZID=America/New_York:20250921T140000
DTEND;TZID=America/New_York:20250921T153000
END:VEVENT
END:VCALENDAR
