BEGIN:VCALENDAR
PRODID:-//eluceo/ical//2.0/EN
VERSION:2.0
CALSCALE:GREGORIAN
BEGIN:VEVENT
UID:0d0036646a5d750ba0a29e401d82bc59
DTSTAMP:20260422T060822Z
SUMMARY:Blank Leadership Graduation
DESCRIPTION:Jewish Federation of West-Central New Jersey\nCommunity Calenda
 r\nhttps://jfedwcnj.org/calendar/blank-leadership-graduation\n\nPeople do 
 not become leaders because they are great. They become great because they 
 are willing to serve as leaders”. Rabbi Lord Jonathan Sacks \n\nCelebra
 te the graduation of our newest Jewish Community leaders\n\nOctober 8\,202
 0\n\n7pm – 8:30pm via Zoom \n\nTo register\, visit: Jfedshaw.org/yld\n\
 nor call Lauren 908-758-2003.\n\n \n\n 
DTSTART;TZID=America/New_York:20201008T190000
DTEND;TZID=America/New_York:20201008T203000
END:VEVENT
END:VCALENDAR
