BEGIN:VCALENDAR
PRODID:-//eluceo/ical//2.0/EN
VERSION:2.0
CALSCALE:GREGORIAN
BEGIN:VEVENT
UID:5d9ad96354dd5c7a69090fcff42ac6f3
DTSTAMP:20260421T163036Z
SUMMARY:Black Americans\, Jewish Americans Virtual Book Club
DESCRIPTION:Jewish Federation of West-Central New Jersey\nCommunity Calenda
 r\nhttps://jfedwcnj.org/calendar/black-americans-jewish-americans-virtual-
 book-club-1712170979\n\nIn this two-part virtual book club\, Professor Don
 avan L. Ramon\, Southern Illinois University Edwardsville\, will guide par
 ticipants in a discussion of key points and themes in "The Human Stain" by
  Philip Roth and "Passing" by Nella Larsen\, as well as comparisons betwee
 n the two novels. The first session on June 5 will focus on "The Human Sta
 in." The second session on June 26 will focus on "Passing." The books shou
 ld be read in advance of the sessions. Free and open to the public\, advan
 ce regis...
DTSTART;TZID=America/New_York:20240605T190000
DTEND;TZID=America/New_York:20240605T200000
END:VEVENT
END:VCALENDAR
