BEGIN:VCALENDAR
PRODID:-//eluceo/ical//2.0/EN
VERSION:2.0
CALSCALE:GREGORIAN
BEGIN:VEVENT
UID:50dd182b9797c43ba6553baeea1f90ec
DTSTAMP:20260421T215750Z
SUMMARY:Bizarre Tales of Yiddishland: What the Yiddish Press Reveals about 
 the Jews
DESCRIPTION:Jewish Federation of West-Central New Jersey\nCommunity Calenda
 r\nhttps://jfedwcnj.org/calendar/bizarre-tales-of-yiddishland-what-the-yid
 dish-press-reveals-about-the-jews-1520535646\n\nDr. Eddy Portnoy\, YIVO In
 stitute for Jewish Research\, will discuss his new book\, which exposes th
 e seamy underbelly of Pre-World War II New York and Warsaw. True stories o
 f Jewish drunks\, thieves\, murderers\, and more\, plucked from the pages 
 of the Yiddish dailies\, provide a window into an unknown Yiddish World.
DTSTART;TZID=America/New_York:20180319T193000
DTEND;TZID=America/New_York:20180319T210000
END:VEVENT
END:VCALENDAR
