BEGIN:VCALENDAR
PRODID:-//eluceo/ical//2.0/EN
VERSION:2.0
CALSCALE:GREGORIAN
BEGIN:VEVENT
UID:ffac729a6aa59578ed4a3b782565aaae
DTSTAMP:20260421T213036Z
SUMMARY:Billy Jonas in Concert at Temple Sholom
DESCRIPTION:Jewish Federation of West-Central New Jersey\nCommunity Calenda
 r\nhttps://jfedwcnj.org/calendar/billy-jonas-in-concert-at-temple-sholom-1
 709578567\n\nPizza lunch is at 12noon.  \n$5 per person for pizza\nlunch -
  RSVP:\nvenmo@Ilene-Bloom\nor pay by check to\nTemple Sholom\n\nConcert be
 gins at 1:00pm and is free.
DTSTART;TZID=America/New_York:20240414T120000
DTEND;TZID=America/New_York:20240414T140000
END:VEVENT
END:VCALENDAR
