BEGIN:VCALENDAR
PRODID:-//eluceo/ical//2.0/EN
VERSION:2.0
CALSCALE:GREGORIAN
BEGIN:VEVENT
UID:85c83236aee7f1b17cb6b43b8eecf09d
DTSTAMP:20260422T083932Z
SUMMARY:Bias Prevention & Awareness Event
DESCRIPTION:Jewish Federation of West-Central New Jersey\nCommunity Calenda
 r\nhttps://jfedwcnj.org/calendar/bias-prevention--awareness-event-15344410
 92\n\nThe Somerset\, Hunterdon and Warren County Prosecutor’s Office are
   co-hosting this symposium with the Jewish Federation of Somerset\, Hun
 terdon\, Warren Counties\, the New Jersey Office of the Attorney General/D
 ivision of Criminal Justice and the New Jersey Bias Crimes Officers Associ
 ation. This training covers how to Recognize\, Respond to and Report a Bia
 s Crime or Incident. The program will focus on identifying bias incidents
  on a local level\, and understanding the difference between a bi...
DTSTART;TZID=America/New_York:20190109T180000
DTEND;TZID=America/New_York:20190109T210000
END:VEVENT
END:VCALENDAR
