BEGIN:VCALENDAR
PRODID:-//eluceo/ical//2.0/EN
VERSION:2.0
CALSCALE:GREGORIAN
BEGIN:VEVENT
UID:15a8af44f339ebb82522de3308aaa2b9
DTSTAMP:20260422T093603Z
SUMMARY:Beyond Dispute: Debates That Shape Jewish Life
DESCRIPTION:Jewish Federation of West-Central New Jersey\nCommunity Calenda
 r\nhttps://jfedwcnj.org/calendar/beyond-dispute-debates-that-shape-jewish-
 life\n\nDebates have helped define Jewish life for millenia- yet for all o
 ur arguing\, we are still one people (arguably). In this age of argument a
 nd disagreement\, we’ll look at some of the great debates of the Jewish 
 past (and present)- and learn not only about the past\, but bring insights
  to help us in the unique situation of the present. This is a brand-new mu
 lti-media course from JTS in New York\, with brief video lectures from lea
 ding scholars\, along with study and discussion with Rabbi Selsber...
DTSTART;TZID=America/New_York:20200102T190000
DTEND;TZID=America/New_York:20200102T210000
END:VEVENT
END:VCALENDAR
