BEGIN:VCALENDAR
PRODID:-//eluceo/ical//2.0/EN
VERSION:2.0
CALSCALE:GREGORIAN
BEGIN:VEVENT
UID:d340c85c3708c6c72d225ba88ddb0d21
DTSTAMP:20260422T005431Z
SUMMARY:Being A Good Person In A Morally Complicated World
DESCRIPTION:Jewish Federation of West-Central New Jersey\nCommunity Calenda
 r\nhttps://jfedwcnj.org/calendar/being-a-good-person-in-a-morally-complica
 ted-world\n\nBeing A Good Person In A Morally Complicated World: On Forgiv
 eness\, Self Esteem\, And Why It's So Hard To Change\n\nJoseph Telushkin i
 s a rabbi\, scholar and the best selling author of 18 books. Rabbi Telushk
 in was ordained at Yeshiva University in New York\, and pursued graduate s
 tudies in Jewish history at Columbia University. He resides in New York Ci
 ty with his wife\, Dvorah Menashe Telushkin\, and their four children. He 
 lectures throughout the United States\, serves as a Senior Associate of C.
 ..
DTSTART;TZID=America/New_York:20161120T120000
DTEND;TZID=America/New_York:20161120T140000
END:VEVENT
END:VCALENDAR
