BEGIN:VCALENDAR
PRODID:-//eluceo/ical//2.0/EN
VERSION:2.0
CALSCALE:GREGORIAN
BEGIN:VEVENT
UID:ae55e14da49756d7acb252600aaac203
DTSTAMP:20260421T032753Z
SUMMARY:Beginning Hebrew Reading
DESCRIPTION:Jewish Federation of West-Central New Jersey\nCommunity Calenda
 r\nhttps://jfedwcnj.org/calendar/beginning-hebrew-reading\n\nInstructor: S
 arah Gluck\n\n​Sundays: 9:00am - 9:50am\n\n​Location: TBE\n\n​Dates:
  October 25\; November 1\, 15\; December 6\; January 10\, 24\; February 7\
 , 21\, 28\; March 13\; April 3\,10\n\nThis class will teach the alef-bet a
 nd vowels and get you on your way to reading Hebrew comfortably. Fun learn
 ing how to read is 100% guaranteed!
DTSTART;TZID=America/New_York:20151025T090000
DTEND;TZID=America/New_York:20151025T095000
END:VEVENT
END:VCALENDAR
