BEGIN:VCALENDAR
PRODID:-//eluceo/ical//2.0/EN
VERSION:2.0
CALSCALE:GREGORIAN
BEGIN:VEVENT
UID:0c4a585fb9595e90533abbdf3fe275c9
DTSTAMP:20260421T071431Z
SUMMARY:BBYO friendsgiving potluck and cupcake wars
DESCRIPTION:Jewish Federation of West-Central New Jersey\nCommunity Calenda
 r\nhttps://jfedwcnj.org/calendar/bbyo-friendsgiving-potluck-and-cupcake-wa
 rs-1763785745\n\nCome bring some food and join us in a friendsgiving potlu
 ck and decorating cookies for cupcake wars!
DTSTART;TZID=America/New_York:20251123T180000
DTEND;TZID=America/New_York:20251123T191500
END:VEVENT
END:VCALENDAR
