BEGIN:VCALENDAR
PRODID:-//eluceo/ical//2.0/EN
VERSION:2.0
CALSCALE:GREGORIAN
BEGIN:VEVENT
UID:a82631f051ac3743518c7f8befc093f9
DTSTAMP:20260423T192731Z
SUMMARY:Bad Rabbi Eddy Portnoy
DESCRIPTION:Jewish Federation of West-Central New Jersey\nCommunity Calenda
 r\nhttps://jfedwcnj.org/calendar/bad-rabbi-eddy-portnoy\n\nReally??? Bad R
 abbi??? No Way! True stories plucked right out of the Yiddish papers from 
 the late 18th Century to early 20th Century\, Eddy introduces us to thieve
 s\, wrestlers\, poets\, and beauty queens\, and all their misadventures! P
 art journalism\, part “Jerry Springer”\, get ready to laugh and be ent
 ertained by a bit of history not so easily found.\n\nEddy Portnoy is an ex
 pert on Jewish popular culture\, and has an MA in Yiddish from Columbia an
 d a PhD in Jewish history from JTS. He has tau...
DTSTART;TZID=America/New_York:20180111T190000
DTEND;TZID=America/New_York:20180111T210000
END:VEVENT
END:VCALENDAR
