BEGIN:VCALENDAR
PRODID:-//eluceo/ical//2.0/EN
VERSION:2.0
CALSCALE:GREGORIAN
BEGIN:VEVENT
UID:211c55cd6d30108cbd5913540db253d3
DTSTAMP:20260421T214403Z
SUMMARY:Back to Broadway and Back to Selichot
DESCRIPTION:Jewish Federation of West-Central New Jersey\nCommunity Calenda
 r\nhttps://jfedwcnj.org/calendar/back-to-broadway-and-back-to-selichot-147
 2173640\n\nBart Shatto has performed on Broadway and for ten years was the
  featured vocalist in the Trans-Siberian Orchestra. His powerful tenor voi
 ce brings some of Broadway&#039\;s most memorable moments to life once aga
 in. This performance will be followed by a dessert reception\, then by the
  temple&#039\;s annual ritual of preparing the sanctuary for the high holi
 days\, and then by Selichot services.
DTSTART;TZID=America/New_York:20160924T200000
DTEND;TZID=America/New_York:20160925T010000
END:VEVENT
END:VCALENDAR
