BEGIN:VCALENDAR
PRODID:-//eluceo/ical//2.0/EN
VERSION:2.0
CALSCALE:GREGORIAN
BEGIN:VEVENT
UID:ff1deff80fd62d57966982890b56bfd6
DTSTAMP:20260421T163106Z
SUMMARY:Author Lecture: Rabbi Eli L. Garfinkel - Jewish Heritage Torah Comm
 entary
DESCRIPTION:Jewish Federation of West-Central New Jersey\nCommunity Calenda
 r\nhttps://jfedwcnj.org/calendar/author-lecture-rabbi-eli-l-garfinkel---je
 wish-heritage-torah-commentary-1621348640\n\nJoin us On June 16th at 6:00p
 m for the next portion of the Alexander Joseph Kaufman Author Lecture Seri
 es.Rabbi Eli L. Garfinkel is the spiritual leader of Temple Beth El in Som
 erset\, NJ. He will be discussing his newest book\, The JPS Jewish Heritag
 e Torah Commentary (JPS\, 2021). In addition to his new book\, he also aut
 hored three popular summer camp commentaries that are used in the Ramah ca
 mps. The JPS Jewish Heritage Torah Commentary shows Jews of all ages and b
 ackgrounds that the Jewish p...
DTSTART;TZID=America/New_York:20210616T180000
DTEND;TZID=America/New_York:20210616T193000
END:VEVENT
END:VCALENDAR
