BEGIN:VCALENDAR
PRODID:-//eluceo/ical//2.0/EN
VERSION:2.0
CALSCALE:GREGORIAN
BEGIN:VEVENT
UID:a723f38489880bf4809e21de846cfe86
DTSTAMP:20260421T192542Z
SUMMARY:Author Lecture: Michael A. Kaufman\, Fox & Camel Children's Books -
  Online
DESCRIPTION:Jewish Federation of West-Central New Jersey\nCommunity Calenda
 r\nhttps://jfedwcnj.org/calendar/author-lecture-michael-a-kaufman-fox--cam
 el-childrens-books---online-1605627839\n\nMichael A. Kaufman had a lot of 
 fun telling stories to his youngest child\, Andrea\, to keep her entertain
 ed whenever they went on trips. These stories are the basis for this child
 ren’s book series\, loosely based on events that occurred to the author 
 or to members of his family.\n\nJoin us as Kaufman discusses how a corpora
 te attorney came to write a children’s book series\, how he came up with
  the stories\, and much more!\n\nParticipants must register in advance at 
 www.tinyurl.com/WilfAuthor...
DTSTART;TZID=America/New_York:20201201T180000
DTEND;TZID=America/New_York:20201201T192000
END:VEVENT
END:VCALENDAR
