BEGIN:VCALENDAR
PRODID:-//eluceo/ical//2.0/EN
VERSION:2.0
CALSCALE:GREGORIAN
BEGIN:VEVENT
UID:ef0aad3a0b167d93b36daecad158abd0
DTSTAMP:20260421T185553Z
SUMMARY:Author Lecture: Libby Copeland - "The Lost Family..."
DESCRIPTION:Jewish Federation of West-Central New Jersey\nCommunity Calenda
 r\nhttps://jfedwcnj.org/calendar/author-lecture-libby-copeland---the-lost-
 family-1611765304\n\nVIRTUAL EVENT:\nJoin us for the next event in the Ale
 xander Joseph Kaufman Author Lecture Series! This is an online event that 
 will be held via Zoom.\n\nLibby Copeland is an award-winning journalist an
 d author\, who writes from New York about culture\, science\, and human be
 havior.\n\nHer book\, The Lost Family: How DNA Testing\, explores the rapi
 dly evolving phenomenon of home DNA testing\, its implications for how we 
 think about family and ourselves\, and its ramifications for American cult
 ure bro...
DTSTART;TZID=America/New_York:20210216T180000
DTEND;TZID=America/New_York:20210216T200000
END:VEVENT
END:VCALENDAR
