BEGIN:VCALENDAR
PRODID:-//eluceo/ical//2.0/EN
VERSION:2.0
CALSCALE:GREGORIAN
BEGIN:VEVENT
UID:1e48896c1866181181070936d2ade95a
DTSTAMP:20260422T160046Z
SUMMARY:Author Janna Gur: Jewish Soul Food 
DESCRIPTION:Jewish Federation of West-Central New Jersey\nCommunity Calenda
 r\nhttps://jfedwcnj.org/calendar/author-janna-gur-jewish-soul-food-1414524
 039\n\n$18 in Advance or $22 Day of Event (Includes Lunch and Program)
DTSTART;TZID=America/New_York:20141119T000000
DTEND;TZID=America/New_York:20141119T140000
END:VEVENT
END:VCALENDAR
