BEGIN:VCALENDAR
PRODID:-//eluceo/ical//2.0/EN
VERSION:2.0
CALSCALE:GREGORIAN
BEGIN:VEVENT
UID:1341888fca492eb4781d2a31a8de898d
DTSTAMP:20260422T092928Z
SUMMARY:Jamie Berstein\, Famous Father Girl
DESCRIPTION:Jewish Federation of West-Central New Jersey\nCommunity Calenda
 r\nhttps://jfedwcnj.org/calendar/author-jamie-bernstein\n\nThe Flemington 
 Jewish Community Center presents \n\nMeet the Author: Jamie Bernstein\, F
 amous Father Girl\n(A memoir of growing up Bernstein)\n$18pp\nTea & Desser
 t \nRSVP by November 20 \n\nhttps://conta.cc/2lZZ8Qs
DTSTART;TZID=America/New_York:20191124T160000
DTEND;TZID=America/New_York:20191124T180000
END:VEVENT
END:VCALENDAR
