BEGIN:VCALENDAR
PRODID:-//eluceo/ical//2.0/EN
VERSION:2.0
CALSCALE:GREGORIAN
BEGIN:VEVENT
UID:26ef2046a477cfa1e11d2bc05bcdf6de
DTSTAMP:20260421T235741Z
SUMMARY: Author Chaya Deitsch: Here and There: Leaving Chasidism\, Keeping 
 my Family
DESCRIPTION:Jewish Federation of West-Central New Jersey\nCommunity Calenda
 r\nhttps://jfedwcnj.org/calendar/author-chaya-deitschhere-and-there-leavin
 g-chasidism-keeping-my-family-1453934442\n\nAs a child\, Chaya Deitsch fel
 t that she didn’t belong in the Hasidic world into which she was born. S
 he spent her teenage years outwardly conforming to but secretly rebelling 
 against the rules that tell you what and when to eat\, how to dress\, whom
  you can befriend and what you must believe. As she navigated the complexi
 ties of her new life\, Chaya and her parents eventually came to an underst
 anding that was based on unqualified love and a hard won but fragile form 
 of acceptance. With...
DTSTART;TZID=America/New_York:20160204T120000
DTEND;TZID=America/New_York:20160204T140000
END:VEVENT
END:VCALENDAR
