BEGIN:VCALENDAR
PRODID:-//eluceo/ical//2.0/EN
VERSION:2.0
CALSCALE:GREGORIAN
BEGIN:VEVENT
UID:023399e11ff75bc183a82661939d5d9c
DTSTAMP:20260421T105645Z
SUMMARY:ASTEROID GOLDBERG PASSOVER IN OUTER SPACE- BRIANNA CAPLAN-SAYRES
DESCRIPTION:Jewish Federation of West-Central New Jersey\nCommunity Calenda
 r\nhttps://jfedwcnj.org/calendar/asteroid-goldberg-passover-in-outer-space
 --brianna-caplan-sayres-1600783629\n\nAn out-of-this-world Passover fantas
 y! When Asteroid and her parent get stuck in outer space for Passover\, As
 teroid uses some creative problem solving to plan a Passover seder for her
 self and her family that is truly out-of-this-world! In this fun and zany 
 Passover adventure\, the rhyming text of USA Today bestselling author\, Br
 ianna Caplan Sayres\, pairs with the out-of-this-world illustrations of il
 lustrator\, Merrill Rainey. While the setting for Asteroid&rsquo\;s seder 
 is highly unusual\, the...
DTSTART;TZID=America/New_York:20210314T100000
DTEND;TZID=America/New_York:20210314T120000
END:VEVENT
END:VCALENDAR
