BEGIN:VCALENDAR
PRODID:-//eluceo/ical//2.0/EN
VERSION:2.0
CALSCALE:GREGORIAN
BEGIN:VEVENT
UID:0b00006faa3a8b428fca3462335df97c
DTSTAMP:20260422T032808Z
SUMMARY:Assisted Living 101
DESCRIPTION:Jewish Federation of West-Central New Jersey\nCommunity Calenda
 r\nhttps://jfedwcnj.org/calendar/assisted-living-101-1425326206\n\nPlease 
 join us on Sunday\, March 15th  at 11:30 AMToby Ehrlich and Randi Rosen\, 
 Senior Care Specialists\, will be presenting “Assisted Living 101.” It
  is perfect for anyone starting the process of looking at assisted livings
  and will cover all the basics and more. A light brunch will be served. To
 urs of Stein Assisted Living Residence will also be available.For more inf
 ormation and to reserve your spot today call 732-568-1155 or email info@wi
 lfcampus.org
DTSTART;TZID=America/New_York:20150315T113000
DTEND;TZID=America/New_York:20150315T130000
END:VEVENT
END:VCALENDAR
