BEGIN:VCALENDAR
PRODID:-//eluceo/ical//2.0/EN
VERSION:2.0
CALSCALE:GREGORIAN
BEGIN:VEVENT
UID:e0dbeee7de0de57dc7cc5542292a455a
DTSTAMP:20260423T183646Z
SUMMARY:Ask AIPAC Anything briefing 
DESCRIPTION:Jewish Federation of West-Central New Jersey\nCommunity Calenda
 r\nhttps://jfedwcnj.org/calendar/ask-aipac-anything-briefing-1456786567\n\
 nPlease join AIPAC NJ for an Ask AIPAC Anything event on April 5. Contact 
 Jackie Kelly\, Associate Director\, at 646-360-1513 or jkelly@aipac.org fo
 r more information.
DTSTART;TZID=America/New_York:20160405T193000
DTEND;TZID=America/New_York:20160405T210000
END:VEVENT
END:VCALENDAR
