BEGIN:VCALENDAR
PRODID:-//eluceo/ical//2.0/EN
VERSION:2.0
CALSCALE:GREGORIAN
BEGIN:VEVENT
UID:3bdcb0202850f688ce3068854d973816
DTSTAMP:20260422T093726Z
SUMMARY:ARTIVISM at the intersection of art\, human rights\, &prevention of
  genocide
DESCRIPTION:Jewish Federation of West-Central New Jersey\nCommunity Calenda
 r\nhttps://jfedwcnj.org/calendar/artivism-at-the-intersection-of-art-human
 -rights-prevention-of-genocide\n\nARTIVISM- the first exhibition of its ki
 nd\, located at the intersection of art\, human rights\, and the preventio
 n of genocide. (Community Program):\n\nJoin us for this Online presentatio
 n with Kerry Whigham\, curator of the ARTIVISM exhibit\, and Aida Šeh
 ović from Bosnia and Herzegovina\, one of the artists involved in this ex
 hibition. Friday\, October 23\, 2020\, at 3 - 4 PM EST Zoom Webinar\n\nA
 RTIVISM illustrates how the arts are used as a mechanism for preventing an
 d responding to mass v...
DTSTART;TZID=America/New_York:20201023T150000
DTEND;TZID=America/New_York:20201023T160000
END:VEVENT
END:VCALENDAR
